BEGIN:VCALENDAR
VERSION:2.0
PRODID:-//Plone.org//NONSGML plone.app.event//EN
X-WR-TIMEZONE:Africa/Johannesburg
BEGIN:VEVENT
SUMMARY:GIS course using Quantum GIS
DTSTART;TZID=Africa/Johannesburg;VALUE=DATE-TIME:20110726T080000
DTEND;TZID=Africa/Johannesburg;VALUE=DATE-TIME:20110728T163000
DTSTAMP;VALUE=DATE-TIME:20260420T101429Z
UID:d78b5b75e697ab674515537d931f443d
CATEGORIES:course
CONTACT:Frank Sokolic\, +27-31-2615922\, frank@gis-solutions.co.za
CREATED;VALUE=DATE-TIME:20110516T140553Z
DESCRIPTION:An Introduction to GIS course to be held in Durban\, 26-28 Jul
 y 2011.
LAST-MODIFIED;VALUE=DATE-TIME:20110711T112158Z
LOCATION:Derby Downs\, Westville\, Durban
URL:https://gissa.org.za/special-interest-groups/open-source/gis-course-us
 ing-quantum-gis
END:VEVENT
BEGIN:VTIMEZONE
TZID:Africa/Johannesburg
X-LIC-LOCATION:Africa/Johannesburg
BEGIN:STANDARD
DTSTART;VALUE=DATE-TIME:19440319T010000
TZNAME:SAST
TZOFFSETFROM:+0300
TZOFFSETTO:+0200
END:STANDARD
END:VTIMEZONE
END:VCALENDAR
