BEGIN:VCALENDAR
VERSION:2.0
PRODID:-//Plone.org//NONSGML plone.app.event//EN
X-WR-TIMEZONE:Africa/Johannesburg
BEGIN:VEVENT
SUMMARY:GISSA Mpumalanga Regional Meeting - 22 April 2026
DTSTART;TZID=Africa/Johannesburg;VALUE=DATE-TIME:20260422T090000
DTEND;TZID=Africa/Johannesburg;VALUE=DATE-TIME:20260422T140000
DTSTAMP;VALUE=DATE-TIME:20260420T053046Z
UID:1898b6dc1e014a1d93745e55523e4d22
ATTENDEE;CN="GISSA Members";ROLE=REQ-PARTICIPANT:GISSA Members
CONTACT:Pumza Siqiti\, mailto:gissampumalanga@gmail.com
CREATED;VALUE=DATE-TIME:20250512T085526Z
DESCRIPTION:GISSA Mpumalanga Regional Meeting to be held as a virtual meet
 ing on Wednesday 22 April 2026 from 09:00-13:00.
LAST-MODIFIED;VALUE=DATE-TIME:20260415T150450Z
LOCATION:Online
URL:https://gissa.org.za/regions/gissa-mpumalanga/meetings-1/gissa-mpumala
 nga-regional-meeting-22-april-2026/gissa-mpumalanga-regional-meeting-22-ap
 ril-2026-event
END:VEVENT
BEGIN:VTIMEZONE
TZID:Africa/Johannesburg
X-LIC-LOCATION:Africa/Johannesburg
BEGIN:STANDARD
DTSTART;VALUE=DATE-TIME:19440319T010000
TZNAME:SAST
TZOFFSETFROM:+0300
TZOFFSETTO:+0200
END:STANDARD
END:VTIMEZONE
END:VCALENDAR
