BEGIN:VCALENDAR
VERSION:2.0
PRODID:-//Plone.org//NONSGML plone.app.event//EN
X-WR-TIMEZONE:Africa/Johannesburg
BEGIN:VEVENT
SUMMARY:GISSA KwaZulu-Natal Meeting - 18 July 2025
DTSTART;TZID=Africa/Johannesburg;VALUE=DATE-TIME:20250718T090000
DTEND;TZID=Africa/Johannesburg;VALUE=DATE-TIME:20250718T133000
DTSTAMP;VALUE=DATE-TIME:20260423T193852Z
UID:9e611c332f9c4aa783c88bd640ebbcab
ATTENDEE;CN="GISSA Members";ROLE=REQ-PARTICIPANT:GISSA Members
CONTACT:Nomusa Mahlangu-Sithole\, nomusa.mahlangu@kznworks.gov.za
CREATED;VALUE=DATE-TIME:20250604T072803Z
DESCRIPTION:The GISSA KwaZulu Natal Meeting on 18 July 2025 from 09:00-13:
 30\, which is to be held on-line via MSTeams.
LAST-MODIFIED;VALUE=DATE-TIME:20250714T103125Z
LOCATION:Online
URL:https://gissa.org.za/regions/gissa-kwazulu-natal/meetings/copy_of_giss
 a-kwazulu-natal-meeting-20-june-2025/gissa-kwazulu-natal-meeting-20-june-2
 025
END:VEVENT
BEGIN:VTIMEZONE
TZID:Africa/Johannesburg
X-LIC-LOCATION:Africa/Johannesburg
BEGIN:STANDARD
DTSTART;VALUE=DATE-TIME:19440319T010000
TZNAME:SAST
TZOFFSETFROM:+0300
TZOFFSETTO:+0200
END:STANDARD
END:VTIMEZONE
END:VCALENDAR
