BEGIN:VCALENDAR
VERSION:2.0
PRODID:-//Plone.org//NONSGML plone.app.event//EN
X-WR-TIMEZONE:Africa/Johannesburg
BEGIN:VEVENT
SUMMARY:GISSA – Eastern Cape\, Geographic Information Systems (GIS) Care
 er Day
DTSTART;TZID=Africa/Johannesburg;VALUE=DATE-TIME:20250515T090000
DTEND;TZID=Africa/Johannesburg;VALUE=DATE-TIME:20250515T130000
DTSTAMP;VALUE=DATE-TIME:20260422T194253Z
UID:f80e2d5f2deb4be8894b232647ba8bc6
ATTENDEE;CN="All welcome";ROLE=REQ-PARTICIPANT:All welcome
CONTACT:Annemarie Fish\, annemarie.fish@sqalproptech.com
CREATED;VALUE=DATE-TIME:20250515T200211Z
DESCRIPTION:We will invite stakeholders within the GIS community that is g
 overnment departments\, municipalities\, state-owned owned\, higher instit
 utions\, and other learners from nearby schools.
LAST-MODIFIED;VALUE=DATE-TIME:20250515T200214Z
LOCATION:East London Golf Course
URL:https://gissa.org.za/regions/gissa-eastern-cape/events/gissa-easter-ca
 pe-gis-career-day/gissa-2013-eastern-cape-geographic-information-systems-g
 is-career-day
END:VEVENT
BEGIN:VTIMEZONE
TZID:Africa/Johannesburg
X-LIC-LOCATION:Africa/Johannesburg
BEGIN:STANDARD
DTSTART;VALUE=DATE-TIME:19440319T010000
TZNAME:SAST
TZOFFSETFROM:+0300
TZOFFSETTO:+0200
END:STANDARD
END:VTIMEZONE
END:VCALENDAR
