BEGIN:VCALENDAR
VERSION:2.0
PRODID:-//Plone.org//NONSGML plone.app.event//EN
X-WR-TIMEZONE:Africa/Johannesburg
BEGIN:VEVENT
SUMMARY:Introduction to QGIS
DTSTART;TZID=Africa/Johannesburg;VALUE=DATE-TIME:20191007T083000
DTEND;TZID=Africa/Johannesburg;VALUE=DATE-TIME:20191009T163000
DTSTAMP;VALUE=DATE-TIME:20260419T151321Z
UID:c3d706262991a4199988b18c9676079b
ATTENDEE;CN="All users of spatial information: GIS specialists, surveyors,
  engineers, environmental consultants, geographers, academics, educators, 
 students, town planners, government officials.";ROLE=REQ-PARTICIPANT:All u
 sers of spatial information: GIS specialists, surveyors, engineers, enviro
 nmental consultants, geographers, academics, educators, students, town pla
 nners, government officials.
CATEGORIES:course
CONTACT:Petra\, +27 21 880 0990\, petra@kartoza.com
CREATED;VALUE=DATE-TIME:20160112T113123Z
DESCRIPTION:QGIS is the ideal professional desktop GIS for any application
 . This is an introductory-level course. So if you are new to GIS\, new to 
 FOSS GIS or are experienced in other GIS software and want to find out how
  to do your work in QGIS\, this course is for you.
LAST-MODIFIED;VALUE=DATE-TIME:20190116T104847Z
LOCATION:Stellenbosch
URL:https://gissa.org.za/introduction-to-postgis-16May/copy7_of_introducti
 on-to-qgis
END:VEVENT
BEGIN:VTIMEZONE
TZID:Africa/Johannesburg
X-LIC-LOCATION:Africa/Johannesburg
BEGIN:STANDARD
DTSTART;VALUE=DATE-TIME:19440319T010000
TZNAME:SAST
TZOFFSETFROM:+0300
TZOFFSETTO:+0200
END:STANDARD
END:VTIMEZONE
END:VCALENDAR
