BEGIN:VCALENDAR
VERSION:2.0
PRODID:-//Plone.org//NONSGML plone.app.event//EN
X-WR-TIMEZONE:Africa/Johannesburg
BEGIN:VEVENT
SUMMARY:GIS Applications in Urban and Regional Planning Short Learning Pro
 gramme
DTSTART;VALUE=DATE:20201101
DTEND;VALUE=DATE:20201201
DTSTAMP;VALUE=DATE-TIME:20260421T184115Z
UID:9200a8535c3a4cf89261903b22b47670
CONTACT:Aurobindo Ogra | aogra @ uj.ac.za Ujaval Gandhi | ujavalg @ uj.ac.
 za\, Aurobindo Ogra | aogra @ uj.ac.za Ujaval Gandhi | ujavalg @ uj.ac.za\
 , https://www.uj.ac.za/faculties/febe/School of Civil Engineering and the 
 Built Environment/Department of Town and Regional Planning/Pages/short-lea
 rning-programmes.aspx
CREATED;VALUE=DATE-TIME:20200711T093027Z
DESCRIPTION:The University of Johannesburg offers an online Instructor-Led
  Course from 1- 30 November 2020  Course Objective:  The Short Learning Pr
 ogramme (SLP) intends to provide skill oriented learning in GIS applicatio
 ns in the built environment field. The course will also expose the partici
 pants to free and open-source software\, open-standards and open data enab
 ling them to implement the solutions discussed in the course at their own 
 organizations.   Course Instructors: The course is facilitated by internat
 ional domain and subject matter experts: Aurobindo Ogra and Ujaval Gandhi
LAST-MODIFIED;VALUE=DATE-TIME:20210922T101910Z
LOCATION:Johannesburg
URL:https://gissa.org.za/education/university-courses-in-gisc/gis-applicat
 ions-in-urban-and-regional-planning-short-learning-programme
END:VEVENT
END:VCALENDAR
