BEGIN:VCALENDAR
VERSION:2.0
PRODID:-//Plone.org//NONSGML plone.app.event//EN
X-WR-TIMEZONE:Africa/Johannesburg
BEGIN:VEVENT
SUMMARY:33rd Plenary of ISO/TC 211 and related meetings
DTSTART;TZID=Africa/Luanda;VALUE=DATE-TIME:20111113T120000
DTEND;TZID=Africa/Luanda;VALUE=DATE-TIME:20111118T120000
DTSTAMP;VALUE=DATE-TIME:20260423T193719Z
UID:4e05492df4088ab31be0ed9ffd8fd6f8
CATEGORIES:conference
CREATED;VALUE=DATE-TIME:20110308T121653Z
LAST-MODIFIED;VALUE=DATE-TIME:20110315T090712Z
LOCATION:Leriba Lodge\, Centurion\, South Africa
URL:https://gissa.org.za/activities/portfolios/standards/33rd-plenary-meet
 ing-of-iso-tc-211-and-related-meetings
END:VEVENT
BEGIN:VTIMEZONE
TZID:Africa/Luanda
X-LIC-LOCATION:Africa/Luanda
BEGIN:STANDARD
DTSTART;VALUE=DATE-TIME:19190901T004624
TZNAME:WAT
TZOFFSETFROM:+0014
TZOFFSETTO:+0100
END:STANDARD
END:VTIMEZONE
END:VCALENDAR
